BEGIN:VCALENDAR
VERSION:2.0
PRODID:-//Sictom du Sud-Gironde - ECPv6.15.18//NONSGML v1.0//EN
CALSCALE:GREGORIAN
METHOD:PUBLISH
X-ORIGINAL-URL:https://sictomsudgironde.fr
X-WR-CALDESC:évènements pour Sictom du Sud-Gironde
REFRESH-INTERVAL;VALUE=DURATION:PT1H
X-Robots-Tag:noindex
X-PUBLISHED-TTL:PT1H
BEGIN:VTIMEZONE
TZID:Europe/Paris
BEGIN:DAYLIGHT
TZOFFSETFROM:+0100
TZOFFSETTO:+0200
TZNAME:CEST
DTSTART:20220327T010000
END:DAYLIGHT
BEGIN:STANDARD
TZOFFSETFROM:+0200
TZOFFSETTO:+0100
TZNAME:CET
DTSTART:20221030T010000
END:STANDARD
BEGIN:DAYLIGHT
TZOFFSETFROM:+0100
TZOFFSETTO:+0200
TZNAME:CEST
DTSTART:20230326T010000
END:DAYLIGHT
BEGIN:STANDARD
TZOFFSETFROM:+0200
TZOFFSETTO:+0100
TZNAME:CET
DTSTART:20231029T010000
END:STANDARD
BEGIN:DAYLIGHT
TZOFFSETFROM:+0100
TZOFFSETTO:+0200
TZNAME:CEST
DTSTART:20240331T010000
END:DAYLIGHT
BEGIN:STANDARD
TZOFFSETFROM:+0200
TZOFFSETTO:+0100
TZNAME:CET
DTSTART:20241027T010000
END:STANDARD
END:VTIMEZONE
BEGIN:VEVENT
DTSTART;TZID=Europe/Paris:20230401T090000
DTEND;TZID=Europe/Paris:20230401T160000
DTSTAMP:20260419T220240
CREATED:20230320T145357Z
LAST-MODIFIED:20230320T145357Z
UID:10000111-1680339600-1680364800@sictomsudgironde.fr
SUMMARY:Vente de composteurs
DESCRIPTION:Vente de composteurs au tarif de 10 €
URL:https://sictomsudgironde.fr/evenement/vente-de-composteurs-3/
LOCATION:Pôle technique du Sictom Sud-Gironde\, 10 rue Fontaine ZAE\, Fargues\, 33210\, France
CATEGORIES:Animation
ATTACH;FMTTYPE=image/jpeg:https://sictomsudgironde.fr/wp-content/uploads/2023/03/BANDEAU_COMPOSTAGE2_940_340.jpg
END:VEVENT
BEGIN:VEVENT
DTSTART;TZID=Europe/Paris:20230405T090000
DTEND;TZID=Europe/Paris:20230405T120000
DTSTAMP:20260419T220240
CREATED:20230320T145122Z
LAST-MODIFIED:20230331T085834Z
UID:10000108-1680685200-1680696000@sictomsudgironde.fr
SUMMARY:Vente de composteurs St Symphorien
DESCRIPTION:Vente de composteurs au tarif de 10 €
URL:https://sictomsudgironde.fr/evenement/vente-de-composteurs/
LOCATION:Déchèterie de SAINT-SYMPHORIEN\, 4\, rue du chemin de fer\, Saint Symphorien\, 33113\, France
CATEGORIES:Animation
ATTACH;FMTTYPE=image/jpeg:https://sictomsudgironde.fr/wp-content/uploads/2023/03/BANDEAU_COMPOSTAGE2_940_340.jpg
END:VEVENT
BEGIN:VEVENT
DTSTART;TZID=Europe/Paris:20230408T110000
DTEND;TZID=Europe/Paris:20230408T120000
DTSTAMP:20260419T220240
CREATED:20230322T134839Z
LAST-MODIFIED:20230322T135135Z
UID:10000146-1680951600-1680955200@sictomsudgironde.fr
SUMMARY:L'heure du conte
DESCRIPTION:En partenariat avec la Quincaillerie de Langon\, l’heure du conte accueille les enfants de 3 à 7 ans pour des lectures autour du jardin. \n  \nInscription obligatoire auprès des services de la médiathèque – limité à 12 enfants : \n\n33 rue Maubec\, 33210 Langon\n05 56 62 33 39\nbibli.langon@cdcsudgironde.fr\n\nEn partenariat avec la Quincaillerie de Langon
URL:https://sictomsudgironde.fr/evenement/lheure-du-conte/
LOCATION:Médiathèque La Quincaillerie\, 33 rue Maubec\, Langon\, 33210
CATEGORIES:Animation
ATTACH;FMTTYPE=image/jpeg:https://sictomsudgironde.fr/wp-content/uploads/2023/03/BANDEAU_CONTE_940_340.jpg
ORGANIZER;CN="La Quincaillerie":MAILTO:bibli.langon@cdcsudgironde.fr
END:VEVENT
END:VCALENDAR